BEGIN:VCALENDAR
VERSION:2.0
PRODID:-//Kita Großfriesen - ECPv6.15.20//NONSGML v1.0//EN
CALSCALE:GREGORIAN
METHOD:PUBLISH
X-ORIGINAL-URL:https://kita-grossfriesen.de
X-WR-CALDESC:Veranstaltungen für Kita Großfriesen
REFRESH-INTERVAL;VALUE=DURATION:PT1H
X-Robots-Tag:noindex
X-PUBLISHED-TTL:PT1H
BEGIN:VTIMEZONE
TZID:Europe/Berlin
BEGIN:DAYLIGHT
TZOFFSETFROM:+0100
TZOFFSETTO:+0200
TZNAME:CEST
DTSTART:20240331T010000
END:DAYLIGHT
BEGIN:STANDARD
TZOFFSETFROM:+0200
TZOFFSETTO:+0100
TZNAME:CET
DTSTART:20241027T010000
END:STANDARD
BEGIN:DAYLIGHT
TZOFFSETFROM:+0100
TZOFFSETTO:+0200
TZNAME:CEST
DTSTART:20250330T010000
END:DAYLIGHT
BEGIN:STANDARD
TZOFFSETFROM:+0200
TZOFFSETTO:+0100
TZNAME:CET
DTSTART:20251026T010000
END:STANDARD
BEGIN:DAYLIGHT
TZOFFSETFROM:+0100
TZOFFSETTO:+0200
TZNAME:CEST
DTSTART:20260329T010000
END:DAYLIGHT
BEGIN:STANDARD
TZOFFSETFROM:+0200
TZOFFSETTO:+0100
TZNAME:CET
DTSTART:20261025T010000
END:STANDARD
END:VTIMEZONE
BEGIN:VEVENT
DTSTART;TZID=Europe/Berlin:20251218T170000
DTEND;TZID=Europe/Berlin:20251218T173000
DTSTAMP:20260424T213745
CREATED:20251117T101940Z
LAST-MODIFIED:20251117T101940Z
UID:242092-1766077200-1766079000@kita-grossfriesen.de
SUMMARY:Adventsandachten an besonderen Orten
DESCRIPTION:Liebe Familien\, am 18.12.2025 findet im Garten der Integrativen Kindertagesstätte Marienkäfer\, eine Andacht mit Pfarrer Knut Meinel statt. Es beginnt gegen 17 Uhr und dauert ungefähr eine halbe Stunde. Im Anschluss ist dann noch Zeit für Austausch und Gemütlichkeit. Wir freuen uns über jeden Besucher. \n 
URL:https://kita-grossfriesen.de/termin/adventsandachten-an-besonderen-orten/
LOCATION:Kita Marienkäfer\, Falkensteiner Landstraße 26\, Plauen\, 08541
ATTACH;FMTTYPE=image/jpeg:https://kita-grossfriesen.de/wp-content/uploads/2025/11/Adventsandachten-2025.jpg
END:VEVENT
BEGIN:VEVENT
DTSTART;TZID=Europe/Berlin:20251221T150000
DTEND;TZID=Europe/Berlin:20251221T200000
DTSTAMP:20260424T213745
CREATED:20251202T092444Z
LAST-MODIFIED:20251202T092444Z
UID:242132-1766329200-1766347200@kita-grossfriesen.de
SUMMARY:Weihnachtsmarkt in Großfriesen am 21.12.2025
DESCRIPTION:Liebe Freunde und Familien\, in diesem Jahr wird es endlich wieder einen Weihnachtsmarkt in Großfriesen geben. Es sind engagierte Vereine aus unserem Dorf\, die gemeinsam den 4. Advent besinnlich begehen wollen. Unsere Einrichtung ist neben dem Fußballverein\, dem Heimatverein und der Feuerwehr\, auch mit einem Programm vertreten. Es wird auch schon fleißig geprobt. Wir freuen uns auf alle\, bis zum 21.12.2025. \n 
URL:https://kita-grossfriesen.de/termin/weihnachtsmarkt-in-grossfriesen-am-21-12-2025/
LOCATION:Sportplatz Großfriesen
ATTACH;FMTTYPE=image/jpeg:https://kita-grossfriesen.de/wp-content/uploads/2025/12/WhatsApp-Bild-2025-12-01-um-20.57.50_d1e248dd.jpg
END:VEVENT
END:VCALENDAR