BEGIN:VCALENDAR
VERSION:2.0
PRODID:-//Kita Großfriesen - ECPv6.15.20//NONSGML v1.0//EN
CALSCALE:GREGORIAN
METHOD:PUBLISH
X-ORIGINAL-URL:https://kita-grossfriesen.de
X-WR-CALDESC:Veranstaltungen für Kita Großfriesen
REFRESH-INTERVAL;VALUE=DURATION:PT1H
X-Robots-Tag:noindex
X-PUBLISHED-TTL:PT1H
BEGIN:VTIMEZONE
TZID:Europe/Berlin
BEGIN:DAYLIGHT
TZOFFSETFROM:+0100
TZOFFSETTO:+0200
TZNAME:CEST
DTSTART:20230326T010000
END:DAYLIGHT
BEGIN:STANDARD
TZOFFSETFROM:+0200
TZOFFSETTO:+0100
TZNAME:CET
DTSTART:20231029T010000
END:STANDARD
BEGIN:DAYLIGHT
TZOFFSETFROM:+0100
TZOFFSETTO:+0200
TZNAME:CEST
DTSTART:20240331T010000
END:DAYLIGHT
BEGIN:STANDARD
TZOFFSETFROM:+0200
TZOFFSETTO:+0100
TZNAME:CET
DTSTART:20241027T010000
END:STANDARD
BEGIN:DAYLIGHT
TZOFFSETFROM:+0100
TZOFFSETTO:+0200
TZNAME:CEST
DTSTART:20250330T010000
END:DAYLIGHT
BEGIN:STANDARD
TZOFFSETFROM:+0200
TZOFFSETTO:+0100
TZNAME:CET
DTSTART:20251026T010000
END:STANDARD
END:VTIMEZONE
BEGIN:VEVENT
DTSTART;TZID=Europe/Berlin:20241111T170000
DTEND;TZID=Europe/Berlin:20241111T190000
DTSTAMP:20260425T175406
CREATED:20241015T104459Z
LAST-MODIFIED:20241015T104459Z
UID:241923-1731344400-1731351600@kita-grossfriesen.de
SUMMARY:Sankt Martins Umzug
DESCRIPTION:Auch in diesem Jahr wollen wir am 11.11. zu Ehren Sankt Martin einen kleinen Lampionumzug durchführen. Die Planungen laufen bereits. Start zum Umzug wird gegen 17.15 Uhr sein.
URL:https://kita-grossfriesen.de/termin/sankt-martins-umzug/
LOCATION:Ortsmitte Großfriesen\, Theumaer Weg\, Großfriesen\, 08541\, Deutschland
ATTACH;FMTTYPE=image/jpeg:https://kita-grossfriesen.de/wp-content/uploads/2024/10/PSX_20211112_100622.jpg
ORGANIZER;CN="Kinderladen Zukunft e.V.":MAILTO:info@kinderladen-zukunft.de
END:VEVENT
BEGIN:VEVENT
DTSTART;TZID=Europe/Berlin:20241126T180000
DTEND;TZID=Europe/Berlin:20241126T200000
DTSTAMP:20260425T175406
CREATED:20241015T105246Z
LAST-MODIFIED:20241015T105246Z
UID:241927-1732644000-1732651200@kita-grossfriesen.de
SUMMARY:Nikolausbasteln ;)
DESCRIPTION:Heute Abend ist das kreative Geschick unserer Eltern gefragt. Damit Nikolaus ein wenig Arbeit abgenommen bekommt\, haben wir uns bereit erklärt ihn zu Unterstützen. Mal schauen was entstehen wird.
URL:https://kita-grossfriesen.de/termin/nikolausbasteln-2/
LOCATION:Kita Marienkäfer\, Falkensteiner Landstraße 26\, Plauen\, 08541
ATTACH;FMTTYPE=image/jpeg:https://kita-grossfriesen.de/wp-content/uploads/2024/10/20231206_074317-scaled.jpg
END:VEVENT
END:VCALENDAR