BEGIN:VCALENDAR
VERSION:2.0
PRODID:-//Kita Großfriesen - ECPv6.15.20//NONSGML v1.0//EN
CALSCALE:GREGORIAN
METHOD:PUBLISH
X-WR-CALNAME:Kita Großfriesen
X-ORIGINAL-URL:https://kita-grossfriesen.de
X-WR-CALDESC:Veranstaltungen für Kita Großfriesen
REFRESH-INTERVAL;VALUE=DURATION:PT1H
X-Robots-Tag:noindex
X-PUBLISHED-TTL:PT1H
BEGIN:VTIMEZONE
TZID:Europe/Berlin
BEGIN:DAYLIGHT
TZOFFSETFROM:+0100
TZOFFSETTO:+0200
TZNAME:CEST
DTSTART:20230326T010000
END:DAYLIGHT
BEGIN:STANDARD
TZOFFSETFROM:+0200
TZOFFSETTO:+0100
TZNAME:CET
DTSTART:20231029T010000
END:STANDARD
BEGIN:DAYLIGHT
TZOFFSETFROM:+0100
TZOFFSETTO:+0200
TZNAME:CEST
DTSTART:20240331T010000
END:DAYLIGHT
BEGIN:STANDARD
TZOFFSETFROM:+0200
TZOFFSETTO:+0100
TZNAME:CET
DTSTART:20241027T010000
END:STANDARD
BEGIN:DAYLIGHT
TZOFFSETFROM:+0100
TZOFFSETTO:+0200
TZNAME:CEST
DTSTART:20250330T010000
END:DAYLIGHT
BEGIN:STANDARD
TZOFFSETFROM:+0200
TZOFFSETTO:+0100
TZNAME:CET
DTSTART:20251026T010000
END:STANDARD
END:VTIMEZONE
BEGIN:VEVENT
DTSTART;TZID=Europe/Berlin:20240413T080000
DTEND;TZID=Europe/Berlin:20240413T143000
DTSTAMP:20260426T061439
CREATED:20240305T133555Z
LAST-MODIFIED:20240305T133555Z
UID:241827-1712995200-1713018600@kita-grossfriesen.de
SUMMARY:Gemeinsam geht´s besser
DESCRIPTION:Auch in diesem Jahr nehmen wir an der Sternquell Frühjahrsputz Aktion teil. Es gibt dieses Jahr viel zu tun. Ob da ein Tag reichen wird?? ;O)
URL:https://kita-grossfriesen.de/termin/gemeinsam-gehts-besser/
LOCATION:Kita Marienkäfer\, Falkensteiner Landstraße 26\, Plauen\, 08541
ATTACH;FMTTYPE=image/jpeg:https://kita-grossfriesen.de/wp-content/uploads/2024/03/20230513_104123-scaled.jpg
END:VEVENT
END:VCALENDAR