BEGIN:VCALENDAR
VERSION:2.0
PRODID:-//Kita Großfriesen - ECPv6.15.20//NONSGML v1.0//EN
CALSCALE:GREGORIAN
METHOD:PUBLISH
X-ORIGINAL-URL:https://kita-grossfriesen.de
X-WR-CALDESC:Veranstaltungen für Kita Großfriesen
REFRESH-INTERVAL;VALUE=DURATION:PT1H
X-Robots-Tag:noindex
X-PUBLISHED-TTL:PT1H
BEGIN:VTIMEZONE
TZID:Europe/Berlin
BEGIN:DAYLIGHT
TZOFFSETFROM:+0100
TZOFFSETTO:+0200
TZNAME:CEST
DTSTART:20240331T010000
END:DAYLIGHT
BEGIN:STANDARD
TZOFFSETFROM:+0200
TZOFFSETTO:+0100
TZNAME:CET
DTSTART:20241027T010000
END:STANDARD
BEGIN:DAYLIGHT
TZOFFSETFROM:+0100
TZOFFSETTO:+0200
TZNAME:CEST
DTSTART:20250330T010000
END:DAYLIGHT
BEGIN:STANDARD
TZOFFSETFROM:+0200
TZOFFSETTO:+0100
TZNAME:CET
DTSTART:20251026T010000
END:STANDARD
BEGIN:DAYLIGHT
TZOFFSETFROM:+0100
TZOFFSETTO:+0200
TZNAME:CEST
DTSTART:20260329T010000
END:DAYLIGHT
BEGIN:STANDARD
TZOFFSETFROM:+0200
TZOFFSETTO:+0100
TZNAME:CET
DTSTART:20261025T010000
END:STANDARD
END:VTIMEZONE
BEGIN:VEVENT
DTSTART;TZID=Europe/Berlin:20251111T164500
DTEND;TZID=Europe/Berlin:20251111T184500
DTSTAMP:20260425T010657
CREATED:20251104T073104Z
LAST-MODIFIED:20251104T084850Z
UID:242072-1762879500-1762886700@kita-grossfriesen.de
SUMMARY:--Sankt Martin--
DESCRIPTION:Liebe Familien\, auch dieses Jahr wollen wir wieder an den heiligen Sankt Martin und seine guten Taten erinnern. Am 11.11.25 möchten wir daher mit unseren Kindern eine kleine Lampionrunde laufen. Wir treffen uns 16:45 Uhr im Garten der Kita und laufen ganz besinnlich zum „Kalten Frosch“. Dort angekommen gibt es das traditionelle Gebäck zum teilen. Unser Pfarrer Knut wird uns mit Liedern die Bedeutung dieses Tages näher bringen. Wir freuen uns auf euch\, Euer Kitateam
URL:https://kita-grossfriesen.de/termin/sankt-martin/
ATTACH;FMTTYPE=image/jpeg:https://kita-grossfriesen.de/wp-content/uploads/2025/11/PSX_20251013_0916001-scaled.jpg
END:VEVENT
END:VCALENDAR